BEGIN:VCALENDAR
VERSION:2.0
PRODID:-//eventon.com NONSGML v1.0//EN
CALSCALE:GREGORIAN
METHOD:PUBLISH
BEGIN:VEVENT
UID:69e72e68841a9
DTSTAMP:20260421T095936
DTSTART:20260314T093000Z
DTEND:20260314T173000Z
TZID:UTC
LOCATION:
SUMMARY:LA FOLIE DES COULEURS
DESCRIPTION:ATELIER ROUGE MONOCHROME Une seule couleurAucune échappatoireDes rouges qui murmurentd&rsquo;autres qui brûlent Silence du noirRespiration du blancet le rouge &#8230; partout! Une journée pour s&rsquo;y perdreCréer dans détourRessentir sans filtre 14 mars de 9h30 à 17hCafé de bienvenue &#8211; Repas tiré du sac Atelier NuwaLa passerelle de la Doller33 rue[..]\nhttps://lapasserelledeladoller.fr/events/la-folie-des-couleurs/
URL:https://lapasserelledeladoller.fr/events/la-folie-des-couleurs/
END:VEVENT
END:VCALENDAR