BEGIN:VCALENDAR
VERSION:2.0
PRODID:-//eventon.com NONSGML v1.0//EN
CALSCALE:GREGORIAN
METHOD:PUBLISH
BEGIN:VEVENT
UID:69e72d135520b
DTSTAMP:20260421T095355
DTSTART:20260530T163000Z
DTEND:20260530T180000Z
TZID:UTC
LOCATION:
SUMMARY:Cercle de femmes : Les 13 mères originelles
DESCRIPTION:ADJOY met en relation la puissance de la transmission orale et l’art du bien-être. Elle vous accompagne dans divers ateliers collectifs dédiés au chant vibratoire et aux contes. Individuellement\,  elle donne des soins en chant vibratoire pour libérer les charges émotionnelles et les énergies qui ne vous servent plus. Et[..]\nhttps://lapasserelledeladoller.fr/events/cercle-de-femmes-les-13-meres-originelles/var/ri-4.l-L1
URL:https://lapasserelledeladoller.fr/events/cercle-de-femmes-les-13-meres-originelles/var/ri-4.l-L1
END:VEVENT
END:VCALENDAR