BEGIN:VCALENDAR
VERSION:2.0
PRODID:-//eventon.com NONSGML v1.0//EN
CALSCALE:GREGORIAN
METHOD:PUBLISH
BEGIN:VEVENT
UID:69e72e7858a8f
DTSTAMP:20260421T095952
DTSTART:20260627T150000Z
DTEND:20260627T160000Z
TZID:UTC
LOCATION:
SUMMARY:Chants vibratoires
DESCRIPTION:ADJOY met en relation la puissance de la transmission orale et l’art du bien-être. Elle vous accompagne dans divers ateliers collectifs dédiés au chant vibratoire et aux contes. Individuellement\,  elle donne des soins en chant vibratoire pour libérer les charges émotionnelles et les énergies qui ne vous servent plus. Et[..]\nhttps://lapasserelledeladoller.fr/events/chants-vibratoires/var/ri-5.l-L1
URL:https://lapasserelledeladoller.fr/events/chants-vibratoires/var/ri-5.l-L1
END:VEVENT
END:VCALENDAR