BEGIN:VCALENDAR
VERSION:2.0
PRODID:-//eventon.com NONSGML v1.0//EN
CALSCALE:GREGORIAN
METHOD:PUBLISH
BEGIN:VEVENT
UID:69e72ceb21c40
DTSTAMP:20260421T095315
DTSTART:20260519T183000Z
DTEND:20260519T200000Z
TZID:UTC
LOCATION:
SUMMARY:Yoga
DESCRIPTION:Prenez du temps pour vous &#8230; Et si vous vous accordiez une pause ?Le yoga est un moment pour respirer\,  relâcher les tensions et revenir à l’essentiel.Un temps pour écouter son corps\,  apaiser l’esprit et retrouver de l’énergie en douceur.Offrez-vous cet espace rien que pour vous… votre bien-être en vaut[..]\nhttps://lapasserelledeladoller.fr/events/yoga/var/ri-1.l-L1
URL:https://lapasserelledeladoller.fr/events/yoga/var/ri-1.l-L1
END:VEVENT
END:VCALENDAR