BEGIN:VCALENDAR
VERSION:2.0
PRODID:-//eventon.com NONSGML v1.0//EN
CALSCALE:GREGORIAN
METHOD:PUBLISH
BEGIN:VEVENT
UID:69e5e9ef1954a
DTSTAMP:20260420T105511
DTSTART:20251122T183000Z
DTEND:20251122T220000Z
TZID:UTC
LOCATION:
SUMMARY:Inauguration atelier Nuwa
DESCRIPTION:Inauguration de l&rsquo;atelier d&rsquo;artistes Nuwa à la Passerelle de le Doller à Reiningue Venez nombreux à partir de 18h30\nhttps://lapasserelledeladoller.fr/events/inauguration-atelier-nuwa/
URL:https://lapasserelledeladoller.fr/events/inauguration-atelier-nuwa/
END:VEVENT
END:VCALENDAR